Workbook

Sheet Лист1
A1: УРН | B1: 456789
B2: 1 | C2: 2 | D2: 3 | E2: 4 | F2: 5 | G2: 6 | H2: 7 | I2: 8 | J2: 9 | K2: 10 | L2: 11 | M2: 12 | N2: 13 | O2: 14 | P2: 15 | Q2: 16 | R2: 17 | S2: 18 | T2: 19 | U2: 20 | V2: 21 | W2: 22 | X2: 23 | Y2: 24 | Z2: 25
A3: УИН | B3: =УИН!B5 -> 0 | C3: =УИН!C5 -> 4 | D3: =УИН!D5 -> 5 | E3: =УИН!E5 -> 4 | F3: =УИН!F5 -> 8 | G3: =УИН!G5 -> 4 | H3: =УИН!H5 -> 8 | I3: =УИН!I5 -> 9 | J3: 0 | K3: 0 | L3: 0 | M3: 0 | N3: 0 | O3: 0 | P3: 0 | Q3: 0 | R3: 0 | S3: 0 | T3: 0 | U3: 0 | V3: 0 | W3: 0 | X3: 0 | Y3: 4 | Z3: =УИН!Z5 -> 5
A5: * Данная форма составления структуры УИН (Уникального идентификатора начислений) работает в версия MS Excel 2007 и выше.
A6: * В данной форме клиенту необходимо заполнить полу УРН и значения УИН с 9 по 24. Остальное расчитывается автоматически.

Sheet УИН
Z1: Контрольная сумма
B2: =INT($C$4/10000000) -> 0 | C2: =INT($C$4/1000000) -> 4 | D2: =INT($C$4/100000) -> 45 | E2: =INT($C$4/10000) -> 454 | F2: =INT($C$4/1000) -> 4548 | G2: =INT($C$4/100) -> 45484 | H2: =INT($C$4/10) -> 454848 | I2: =INT($C$4/1) -> 4548489 | J2: =INT($J$4/1000000000000000) -> 6 | K2: =INT($J$4/100000000000000) -> 63 | L2: =INT($J$4/10000000000000) -> 638 | M2: =INT($J$4/1000000000000) -> 6380 | N2: =INT($J$4/100000000000) -> 63804 | O2: =INT($J$4/10000000000) -> 638042 | P2: =INT($J$4/1000000000) -> 6380428 | Q2: =INT($J$4/100000000) -> 63804288 | R2: =INT($J$4/10000000) -> 638042880 | S2: =INT($J$4/1000000) -> 6380428803 | T2: =INT($J$4/100000) -> 63804288038 | U2: =INT($J$4/10000) -> 638042880381 | V2: =INT($J$4/1000) -> 6380428803814 | W2: =INT($J$4/100) -> 63804288038149 | X2: =INT($J$4/10) -> 638042880381491 | Y2: =INT($J$4/1) -> 6.3804288e+15
A3: Исходный | B3: =Лист1!B1 -> 456789 | I3: Случайное число | J3: =RANDBETWEEN(1000000000000000,9999999999999990) -> 1.5423855e+15
A4: Шестнадцатиричный | C4: =HEX2DEC(B3) -> 4548489 | J4: =RANDBETWEEN(1000000000000000,9999999999999990) -> 6.3804288e+15
A5: УИН | B5: =MOD(B2,10) -> 0 | C5: =MOD(C2,10) -> 4 | D5: =MOD(D2,10) -> 5 | E5: =MOD(E2,10) -> 4 | F5: =MOD(F2,10) -> 8 | G5: =MOD(G2,10) -> 4 | H5: =MOD(H2,10) -> 8 | I5: =MOD(I2,10) -> 9 | J5: =Лист1!J3 -> 0 | K5: =Лист1!K3 -> 0 | L5: =Лист1!L3 -> 0 | M5: =Лист1!M3 -> 0 | N5: =Лист1!N3 -> 0 | O5: =Лист1!O3 -> 0 | P5: =Лист1!P3 -> 0 | Q5: =Лист1!Q3 -> 0 | ... Y5: =Лист1!Y3 -> 4 | Z5: =AB5 -> 5 | AB5: =IF(AB10=10,AB11,AB10) -> 5
A7: Разряды 1 | B7: 1 | C7: 2 | D7: 3 | E7: 4 | F7: 5 | G7: 6 | H7: 7 | I7: 8 | J7: 9 | K7: 10 | L7: 1 | M7: 2 | N7: 3 | O7: 4 | P7: 5 | Q7: 6 | R7: 7 | S7: 8 | T7: 9 | U7: 10 | V7: 1 | W7: 2 | X7: 3 | Y7: 4
A8: Разряды 2 | B8: 3 | C8: 4 | D8: 5 | E8: 6 | F8: 7 | G8: 8 | H8: 9 | I8: 10 | J8: 1 | K8: 2 | L8: 3 | M8: 4 | N8: 5 | O8: 6 | P8: 7 | Q8: 8 | R8: 9 | S8: 10 | T8: 1 | U8: 2 | V8: 3 | W8: 4 | X8: 5 | Y8: 6 | AB8: Остатки
Z9: Суммы по разрядам
A10: Произведение 1 | B10: =B5*B7 -> 0 | C10: =C5*C7 -> 8 | D10: =D5*D7 -> 15 | E10: =E5*E7 -> 16 | F10: =F5*F7 -> 40 | G10: =G5*G7 -> 24 | H10: =H5*H7 -> 56 | I10: =I5*I7 -> 72 | ... Y10: =Y5*Y7 -> 16 | Z10: =SUM(B10:Y10) -> 247 | AB10: =MOD(Z10,11) -> 5
A11: Произведение 2 | B11: =B5*B8 -> 0 | C11: =C5*C8 -> 16 | D11: =D5*D8 -> 25 | E11: =E5*E8 -> 24 | F11: =F5*F8 -> 56 | G11: =G5*G8 -> 32 | H11: =H5*H8 -> 72 | I11: =I5*I8 -> 90 | ... Y11: =Y5*Y8 -> 24 | Z11: =SUM(B11:Y11) -> 339 | AB11: =MOD(Z11,11) -> 9
