Workbook

Sheet Лист2
B3: Перечень федеральных бюджетных и федеральных автономных учреждений, получивших субсидии на выполнение государственного задания на оказание государственных услуг (выполнение работ) в 2014 году и не разместивших на Официальном сайте ГМУ информацию о государственном задании на оказание государственных услуг (выполнение работ) на 2014 год по состоянию на 19.07.2014
A5: № п/п | B5: Реестровый номер в перечне ГМУ | C5: Основные реквизиты учреждения | M5: Информация о регистрации и размещении сведений на Официальном сайте | O5: Код ТОФК | P5: Наименование ТФОК
C6: Полное наименование | D6: Сокращенное наименование | E6: Статус учреждения в перечне ГМУ | F6: ИНН | G6: КПП | H6: ОГРН | I6: Главный распорядитель бюджетных средств | K6: Тип организации | L6: Код главы ГРБС (Первые три символа КБК) | M6: Общая информация | N6: Информация о государственном задании на оказание государственных услуг (выполнение работ) на 2014 год
I7: Реестровый номер организации в перечне ГМУ | J7: Полное наименование организации
A8: 1 | B8: 2 | C8: 3 | D8: 4 | E8: 5 | F8: 6 | G8: 7 | H8: 8 | I8: 9 | J8: 10 | K8: 11 | L8: 12 | M8: 13 | N8: 14 | O8: 15 | P8: 16
A9: 1 | B9: 0376100000065 | C9: федеральное государственное бюджетное образовательное учреждение высшего профессионального образования "Адыгейский государственный университет" | D9: ФГБОУ ВПО "АГУ" | E9: 801 - включена | F9: 0105017636 | G9: 010501001 | H9: 1020100698750 | K9: 10 - автономное учреждение | M9: 39939 | O9: 7600 | P9: Управление Федерального казначейства по Республике Адыгея (Адыгея)
A10: 2 | B10: 0876100000017 | C10: федеральное государственное бюджетное учреждение "Управление мелиорации земель и сельскохозяйственного водоснабжения по Республике Адыгея" | D10: ФГБУ "Управление "Адыгеямелиоводхоз" | E10: 801 - включена | F10: 0105022178 | G10: 010501001 | H10: 1020100697100 | I10: 0173100000098 | J10: Федеральное агентство воздушного транспорта | K10: 10 - автономное учреждение | M10: 39960 | O10: 7600 | P10: Управление Федерального казначейства по Республике Адыгея (Адыгея)
A11: 3 | B11: 0376100000007 | C11: Федеральное бюджетное учреждение здравоохранения "Центр гигиены и эпидемиологии в Республике Адыгея" | D11: ФБУЗ "Центр гигиены и эпидемиологии в Республике Адыгея" | E11: 801 - включена | F11: 0105044421 | G11: 010501001 | H11: 1050100534890 | I11: 0173100000123 | J11: Федеральное дорожное агентство | K11: 10 - автономное учреждение | M11: 39966 | O11: 7600 | P11: Управление Федерального казначейства по Республике Адыгея (Адыгея)
A12: 4 | B12: 0301100000241 | C12: Федеральное государственное бюджетное учреждение "Государственный природный заповедник "Шульган-Таш" | D12: ФГБУ "Государственный заповедник "Шульган-таш" | E12: 801 - включена | F12: 0218000136 | G12: 021801001 | H12: 1030202047875 | I12: 0173100000135 | J12: Министерство обороны Российской Федерации | K12: 08 - казенное учреждение | O12: 0100 | P12: Управление Федерального казначейства по Республике Башкортостан
A13: 5 | B13: 0301100000475 | C13: Столовая федерального государственного бюджетного образовательного учреждения высшего профессионального образования "Башкирский государственный университет" | D13: Cтоловая БашГУ | E13: 801 - включена | F13: 0274011237 | G13: 027402001 | H13: 1030203895193 | I13: 0373100000615 | J13: Министерство внутренних дел Российской Федерации | K13: 08 - казенное учреждение | L13: 188 | M13: 40032 | O13: 0100 | P13: Управление Федерального казначейства по Республике Башкортостан
A14: 6 | B14: 0301100000182 | C14: ФЕДЕРАЛЬНОЕ ГОСУДАРСТВЕННОЕ БЮДЖЕТНОЕ ОБРАЗОВАТЕЛЬНОЕ УЧРЕЖДЕНИЕ ВЫСШЕГО ПРОФЕССИОНАЛЬНОГО ОБРАЗОВАНИЯ "УФИМСКИЙ ГОСУДАРСТВЕННЫЙ АВИАЦИОННЫЙ ТЕХНИЧЕСКИЙ УНИВЕРСИТЕТ" | D14: ФГБОУ ВПО "УГАТУ", УГАТУ | E14: 801 - включена | F14: 0274023747 | G14: 027401001 | H14: 1030203899527 | I14: 0373100000615 | J14: Министерство внутренних дел Российской Федерации | K14: 08 - казенное учреждение | L14: 188 | M14: 39889 | O14: 0100 | P14: Управление Федерального казначейства по Республике Башкортостан
A15: 7 | B15: 0301100000461 | C15: Столовая федерального государственного бюджетного образовательного учреждения высшего профессионального образования "Башкирский государственный педагогический университет им. М.Акмуллы" | D15: Столовая ФГБОУ ВПО "БГПУ им. М.Акмуллы" | E15: 801 - включена | F15: 0274035573 | G15: 027402003 | H15: 1020202554778 | I15: 0373100000615 | J15: Министерство внутренних дел Российской Федерации | K15: 08 - казенное учреждение | L15: 188 | M15: 39967 | O15: 0100 | P15: Управление Федерального казначейства по Республике Башкортостан
A16: 8 | B16: 0301100000426 | C16: федеральное бюджетное учреждение Башкирская лаборатория судебной экспертизы Министерства юстиции Российской Федерации | D16: ФБУ Башкирская ЛСЭ Минюста России | E16: 801 - включена | F16: 0276013335 | G16: 027601001 | H16: 1020202853330 | I16: 0173100000062 | J16: Министерство внутренних дел Российской Федерации | K16: 08 - казенное учреждение | L16: 188 | M16: 39742 | O16: 0100 | P16: Управление Федерального казначейства по Республике Башкортостан
A17: 9 | B17: 0301100000088 | C17: ФЕДЕРАЛЬНОЕ ГОСУДАРСТВЕННОЕ БЮДЖЕТНОЕ УЧРЕЖДЕНИЕ НАУКИ ИНСТИТУТ НЕФТЕХИМИИ И КАТАЛИЗА РОССИЙСКОЙ АКАДЕМИИ НАУК | D17: ИНК РАН | E17: 801 - включена | F17: 0277011683 | G17: 027701001 | H17: 1020203083944 | I17: 0373100000615 | J17: Министерство внутренних дел Российской Федерации | K17: 08 - казенное учреждение | L17: 188 | M17: 40036 | O17: 0100 | P17: Управление Федерального казначейства по Республике Башкортостан
A18: 10 | B18: 0302100000040 | C18: Федеральное государственное бюджетное учреждение "Байкальский государственный природный биосферный заповедник" | D18: ФГБУ "Байкальский государственный заповедник" | E18: 801 - включена | F18: 0309004681 | G18: 030901001 | H18: 1020300666891 | I18: 0373100000615 | J18: Министерство внутренних дел Российской Федерации | K18: 08 - казенное учреждение | L18: 188 | M18: 40018 | O18: 0200 | P18: Управление Федерального казначейства по Республике Бурятии
A19: 11 | B19: 0302100000020 | C19: федеральное бюджетное учреждение Забайкальская лаборатория судебной экспертизы Министерства юстиции Российской Федерации | D19: ФБУ Забайкальская ЛСЭ Минюста России | E19: 801 - включена | F19: 0323026609 | G19: 032601001 | H19: 1020300963760 | I19: 0373100000615 | J19: Министерство внутренних дел Российской Федерации | K19: 08 - казенное учреждение | L19: 188 | M19: 40339 | O19: 0200 | P19: Управление Федерального казначейства по Республике Бурятии
A20: 12 | B20: 0302100000092 | C20: ФЕДЕРАЛЬНОЕ ГОСУДАРСТВЕННОЕ БЮДЖЕТНОЕ ОБРАЗОВАТЕЛЬНОЕ УЧРЕЖДЕНИЕ ВЫСШЕГО ПРОФЕССИОНАЛЬНОГО ОБРАЗОВАНИЯ "ВОСТОЧНО-СИБИРСКИЙ ГОСУДАРСТВЕННЫЙ УНИВЕРСИТЕТ ТЕХНОЛОГИЙ И УПРАВЛЕНИЯ" | D20: ФГБОУ ВПО "ВСГУТУ" | E20: 801 - включена | F20: 0323060215 | G20: 032301001 | H20: 1020300905162 | I20: 0373100000615 | J20: Министерство внутренних дел Российской Федерации | K20: 08 - казенное учреждение | L20: 188 | M20: 40368 | O20: 0200 | P20: Управление Федерального казначейства по Республике Бурятии
A21: 13 | B21: 0302100000210 | C21: федеральное государственное бюджетное специальное учебно-воспитательное учреждение для детей и подростков с девиантным поведением "Специальное профессиональное училище № 1 закрытого типа г. Улан-Удэ Республики Бурятия" | D21: Улан-Удэнское спец. ПУ | E21: 801 - включена | F21: 0323085192 | G21: 032301001 | H21: 1020300903710 | I21: 0373100000615 | J21: Министерство внутренних дел Российской Федерации | K21: 08 - казенное учреждение | L21: 188 | M21: 40263 | O21: 0200 | P21: Управление Федерального казначейства по Республике Бурятии
A22: 14 | B22: 0302100000023 | C22: Федеральное государственное бюджетное учреждение дошкольного образования - детский сад комбинированного вида № 53 Сибирского отделения Российской академии наук | D22: ДОУ № 53 СО РАН | E22: 801 - включена | F22: 0323115270 | G22: 032301001 | H22: 1020300891467 | I22: 0373100000615 | J22: Министерство внутренних дел Российской Федерации | K22: 08 - казенное учреждение | L22: 188 | M22: 39900 | O22: 0200 | P22: Управление Федерального казначейства по Республике Бурятии
A23: 15 | B23: 0377100000076 | C23: ФЕДЕРАЛЬНОЕ ГОСУДАРСТВЕННОЕ БЮДЖЕТНОЕ УЧРЕЖДЕНИЕ "НАЦИОНАЛЬНЫЙ ПАРК "САЙЛЮГЕМСКИЙ" | D23: ФГБУ "НАЦИОНАЛЬНЫЙ ПАРК "САЙЛЮГЕМСКИЙ" | E23: 801 - включена | F23: 0404009182 | G23: 040401001 | H23: 1130404000792 | I23: 0173100000062 | J23: Министерство внутренних дел Российской Федерации | K23: 08 - казенное учреждение | L23: 188 | M23: 40145 | O23: 7700 | P23: Управление Федерального казначейства по Республике Алтай
A24: 16 | B24: 0377100000014 | C24: Федеральное государственное бюджетное учреждение "Государственный природный биосферный заповедник "Катунский" | D24: ФГБУ "Государственный заповедник "Катунский" | E24: 801 - включена | F24: 0406000308 | G24: 040601001 | H24: 1020400563886 | I24: 0373100000615 | J24: Министерство внутренних дел Российской Федерации | K24: 08 - казенное учреждение | L24: 188 | M24: 40002 | O24: 7700 | P24: Управление Федерального казначейства по Республике Алтай
A25: 17 | B25: 0303100000083 | C25: федеральное государственное бюджетное учреждение "Дирекция строящихся сельскохозяйственных, мелиоративных и водохозяйственных объектов в Республике Дагестан" | D25: ФГБУ "Дагсельхозмелиоводстрой" | E25: 801 - включена | F25: 0541000230 | G25: 057201001 | H25: 1020502628915 | I25: 0173100000107 | J25: Федеральная служба исполнения наказаний | K25: 08 - казенное учреждение | L25: 320 | M25: 39924 | O25: 0300 | P25: Управление Федерального казначейства по Республике Дагестан
A26: 18 | B26: 0303100000052 | C26: Федеральное государственное научное учреждение "Институт национальных проблем в образовании" Российской академии образования | D26: ФГНУ ИНПО РАО | E26: 801 - включена | F26: 0541025475 | G26: 057101001 | H26: 1020502629696 | I26: 0173100000107 | J26: Федеральная служба исполнения наказаний | K26: 08 - казенное учреждение | O26: 0311 | P26: Управление Федерального казначейства по Республике Дагестан
A27: 19 | B27: 0303100000043 | C27: федеральное государственное бюджетное учреждение "Западно-Каспийское бассейновое управление по рыболовству и сохранению водных биологических ресурсов" | D27: ФГБУ "Запкаспрыбвод" | E27: 801 - включена | F27: 0560008210 | G27: 057301001 | H27: 1020502458030 | I27: 0173100000140 | J27: Министерство Российской Федерации по делам гражданской обороны, чрезвычайным ситуациям и ликвидации последствий стихийных бедствий | K27: 08 - казенное учреждение | L27: 177 | M27: 40281 | O27: 0300 | P27: Управление Федерального казначейства по Республике Дагестан
A28: 20 | B28: 0303100000001 | C28: федеральное бюджетное учреждение Дагестанская лаборатория судебной экспертизы Министерства юстиции Российской Федерации | D28: ФБУ Дагестанская ЛСЭ Минюста России | E28: 801 - включена | F28: 0560015063 | G28: 057301001 | H28: 1020502458503 | I28: 0173100000088 | J28: Министерство энергетики Российской Федерации | K28: 08 - казенное учреждение | L28: 022 | M28: 39917 | O28: 0311 | P28: Управление Федерального казначейства по Республике Дагестан
A29: 21 | B29: 0303100000008 | C29: ФЕДЕРАЛЬНОЕ ГОСУДАРСТВЕННОЕ БЮДЖЕТНОЕ ОБРАЗОВАТЕЛЬНОЕ УЧРЕЖДЕНИЕ ДОПОЛНИТЕЛЬНОГО ПРОФЕССИОНАЛЬНОГО ОБРАЗОВАНИЯ СПЕЦИАЛИСТОВ "ДАГЕСТАНСКИЙ ИНСТИТУТ ПОВЫШЕНИЯ КВАЛИФИКАЦИИ КАДРОВ АПК" | D29: ФГБОУ ДПОС ДИПКК АПК | E29: 801 - включена | F29: 0560019420 | G29: 057201001 | H29: 1020502460990 | I29: 0173100000107 | J29: Федеральная служба исполнения наказаний | K29: 08 - казенное учреждение | L29: 320 | M29: 40362 | O29: 0311 | P29: Управление Федерального казначейства по Республике Дагестан
A30: 22 | B30: 0303100000114 | C30: Федеральное государственное бюджетное учреждение по водному хозяйству "Дагводресурсы" | D30: ФГУ "Дагводресурсы" | E30: 801 - включена | F30: 0560020546 | G30: 057001001 | H30: 1020502461308 | I30: 0173100000107 | J30: Федеральная служба исполнения наказаний | K30: 08 - казенное учреждение | L30: 320 | M30: 40048 | O30: 0311 | P30: Управление Федерального казначейства по Республике Дагестан
A31: 23 | B31: 0395100004376 | C31: ФЕДЕРАЛЬНОЕ ГОСУДАРСТВЕННОЕ БЮДЖЕТНОЕ УЧРЕЖДЕНИЕ "МИНИСТЕРСТВО МЕЛИОРАЦИИ ЗЕМЕЛЬ И СЕЛЬСКОХОЗЯЙСТВЕННОГО ВОДОСНАБЖЕНИЯ РЕСПУБЛИКИ ДАГЕСТАН" | D31: ФГБУ "МИНМЕЛИОВОДХОЗ РД" | E31: 801 - включена | F31: 0560022374 | G31: 057301001 | H31: 1020502457821 | I31: 0173100000107 | J31: Федеральная служба исполнения наказаний | K31: 08 - казенное учреждение | L31: 320 | M31: 40053 | O31: 0300 | P31: Управление Федерального казначейства по Республике Дагестан
A32: 24 | B32: 0303100000160 | C32: Федеральное бюджетное учреждение здравоохранения "Центр гигиены и эпидемиологии в Республике Дагестан" | D32: ФБУЗ "Центр гигиены и эпидемиологии в Республике Дагестан" | E32: 801 - включена | F32: 0560029186 | G32: 057001001 | H32: 1050560002041 | I32: 0173100000062 | J32: Министерство внутренних дел Российской Федерации | K32: 08 - казенное учреждение | L32: 188 | M32: 39487 | O32: 0300 | P32: Управление Федерального казначейства по Республике Дагестан
A33: 25 | B33: 0303100000259 | C33: Государственное научное учреждение Дагестанский научно-исследовательский институт сельского хозяйства Российской академии сельскохозяйственных наук | D33: ГНУ Дагестанский НИИСХ Россельхозакадемии | E33: 801 - включена | F33: 0560205272 | G33: 057001001 | H33: 1020502457788 | I33: 0373100000615 | J33: Министерство внутренних дел Российской Федерации | K33: 08 - казенное учреждение | L33: 188 | M33: 39794 | O33: 0311 | P33: Управление Федерального казначейства по Республике Дагестан
A34: 26 | B34: 0303100000137 | C34: федеральное государственное бюджетное образовательное учреждение высшего профессионального образования "Дагестанский государственный педагогический университет" | D34: ДГПУ | E34: 801 - включена | F34: 0561039211 | G34: 054101001 | H34: 1020502522435 | I34: 0173100000107 | J34: Федеральная служба исполнения наказаний | K34: 08 - казенное учреждение | L34: 320 | M34: 40260 | O34: 0300 | P34: Управление Федерального казначейства по Республике Дагестан
A35: 27 | B35: 0303100000013 | C35: Федеральное государственное бюджетное учреждение "Государственный природный заповедник "Дагестанский" | D35: ФГБУ "Государственный заповедник "Дагестанский" | E35: 801 - включена | F35: 0561039349 | G35: 057101001 | H35: 1020502522281 | I35: 0173100000107 | J35: Федеральная служба исполнения наказаний | K35: 08 - казенное учреждение | L35: 320 | M35: 39969 | O35: 0300 | P35: Управление Федерального казначейства по Республике Дагестан
A36: 28 | B36: 0303100000014 | C36: государственное бюджетное образовательное учреждение высшего профессионального образования "Дагестанская государственная медицинская академия" Министерства здравоохранения Российской Федерации | D36: ГБОУ ВПО ДГМА Минздрава России | E36: 801 - включена | F36: 0562010215 | G36: 054101001 | H36: 1020502631643 | I36: 0373100000615 | J36: Министерство внутренних дел Российской Федерации | K36: 08 - казенное учреждение | L36: 188 | M36: 40057 | O36: 0300 | P36: Управление Федерального казначейства по Республике Дагестан
A37: 29 | B37: 0303100000130 | C37: федеральное государственное бюджетное образовательное учреждение высшего профессионального образования "Дагестанский государственный университет" | D37: ДГУ | E37: 801 - включена | F37: 0562039983 | G37: 054101001 | H37: 1020502631621 | I37: 0173100000107 | J37: Федеральная служба исполнения наказаний | K37: 08 - казенное учреждение | L37: 320 | M37: 40026 | O37: 0300 | P37: Управление Федерального казначейства по Республике Дагестан
A38: 30 | B38: 0303100000025 | C38: Федеральное государственное бюджетное учреждение науки Институт физики им. Х.И. Амирханова Дагестанского научного центра Российской академии наук | D38: ИФ ДНЦ РАН | E38: 801 - включена | F38: 0562044084 | G38: 057201001 | H38: 1020502628695 | I38: 0173100000107 | J38: Федеральная служба исполнения наказаний | K38: 08 - казенное учреждение | L38: 320 | M38: 40024 | O38: 0300 | P38: Управление Федерального казначейства по Республике Дагестан
... A42: 34 | B42: 0314100000075 | C42: ФЕДЕРАЛЬНОЕ ГОСУДАРСТВЕННОЕ БЮДЖЕТНОЕ УЧРЕЖДЕНИЕ "УПРАВЛЕНИЕ МЕЛИОРАЦИИ ЗЕМЕЛЬ И СЕЛЬСКОХОЗЯЙСТВЕННОГО ВОДОСНАБЖЕНИЯ ПО РЕСПУБЛИКЕ ИНГУШЕТИЯ" | D42: ФГБУ "УПРАВЛЕНИЕ "ИНГУШМЕЛИОВОДХОЗ" | E42: 801 - включена | F42: 0603018054 | G42: 060601001 | H42: 1020600812044 | I42: 0173100000135 | J42: Министерство обороны Российской Федерации | K42: 08 - казенное учреждение | L42: 187 | M42: 39556 | O42: 1400 | P42: Управление Федерального казначейства по Республике Ингушетия
A43: 35 | B43: 0314100000073 | C43: ФЕДЕРАЛЬНОЕ ГОСУДАРСТВЕННОЕ БЮДЖЕТНОЕ УЧРЕЖДЕНИЕ "ГОСУДАРСТВЕННЫЙ ПРИРОДНЫЙ ЗАПОВЕДНИК "ЭРЗИ" | D43: ФГБУ "ГОСУДАРСТВЕННЫЙ ЗАПОВЕДНИК "ЭРЗИ" | E43: 801 - включена | F43: 0606006219 | G43: 060601001 | H43: 1020600986878 | I43: 0373100000615 | J43: Министерство внутренних дел Российской Федерации | K43: 08 - казенное учреждение | O43: 1400 | P43: Управление Федерального казначейства по Республике Ингушетия
A44: 36 | B44: 0304100000060 | C44: федеральное государственное учреждение "Пансионат " Эдельвейс" Управления делами Президента Российской Федерации | D44: ФГУ "Пансионат "Эдельвейс" | E44: 801 - включена | F44: 0710002588 | G44: 071001001 | H44: 1020700712680 | I44: 0173100000135 | J44: Министерство обороны Российской Федерации | K44: 08 - казенное учреждение | O44: 0400 | P44: Управление Федерального казначейства по Кабардино-Балкарской Республике
A45: 37 | B45: 0304100000159 | C45: ФЕДЕРАЛЬНОЕ ГОСУДАРСТВЕННОЕ БЮДЖЕТНОЕ УЧРЕЖДЕНИЕ "НАЦИОНАЛЬНЫЙ ПАРК"ПРИЭЛЬБРУСЬЕ" | D45: ФГБУ "НАЦИОНАЛЬНЫЙ ПАРК" ПРИЭЛЬБРУСЬЕ" | E45: 801 - включена | F45: 0710002732 | G45: 071001001 | H45: 1030700500687 | I45: 0173100000135 | J45: Министерство обороны Российской Федерации | K45: 08 - казенное учреждение | O45: 0400 | P45: Управление Федерального казначейства по Кабардино-Балкарской Республике
A46: 38 | B46: 0304100000146 | C46: федеральное государственное бюджетное образовательное учреждение высшего профессионального образования "Северо-Кавказский государственный институт искусств" | D46: Северо-Кавказский государственный институт искусств | E46: 801 - включена | F46: 0711001114 | G46: 072501001 | H46: 1020700738211 | I46: 0173100000135 | J46: Министерство обороны Российской Федерации | K46: 08 - казенное учреждение | O46: 0400 | P46: Управление Федерального казначейства по Кабардино-Балкарской Республике
...

Sheet Справочник ПГМУ
A1: Перечень федеральных учреждений | E1: 40377
A5: Реестровый номер в перечне ГМУ | B5: Основные реквизиты учреждения | O5: Информация о регистрации и размещении сведений на Официальном сайте
B6: Полное наименование | C6: Сокращенное наименование | D6: Статус учреждения в перечне ГМУ | E6: ИНН | F6: КПП | G6: ОГРН | H6: Главный распорядитель бюджетных средств | J6: Тип организации | K6: Специальные указания | L6: Дата обновления данных организации в ЕГРЮЛ | M6: Дата и время обновления данных организации из ЕГРЮЛ | N6: Код главы ГРБС (Первые три символа КБК) | O6: ОИ
H7: Реестровый номер организации в перечне ГМУ | I7: Полное наименование организации | P7: ГЗ
P8: 2014
A9: 0376100000023 | B9: МЕЖРАЙОННАЯ ИНСПЕКЦИЯ ФЕДЕРАЛЬНОЙ НАЛОГОВОЙ СЛУЖБЫ № 2 ПО РЕСПУБЛИКЕ АДЫГЕЯ | C9: МЕЖРАЙОННАЯ ИФНС РОССИИ № 2 ПО РЕСПУБЛИКЕ АДЫГЕЯ | D9: 801 - включена | E9: 0101002332 | F9: 010101001 | G9: 1040100522351 | H9: 0173100000140 | I9: Министерство Российской Федерации по делам гражданской обороны, чрезвычайным ситуациям и ликвидации последствий стихийных бедствий | J9: 08 - казенное учреждение | L9: 39907 | M9: 40333 | N9: 177 | O9: 39927 | Q9: =VLOOKUP(E9:E5777,[1]Лист1!$D$1:$D$2725,1,0) -> #N/A
A10: 0376100000043 | B10: Отдел Министерства внутренних дел Российской Федерации по Красногвардейскому району | C10: Отдел МВД России по Красногвардейскому району | D10: 801 - включена | E10: 0102001980 | F10: 010101001 | G10: 1020100864101 | J10: 10 - автономное учреждение | L10: 40207 | M10: 40289 | Q10: =VLOOKUP(E10:E5778,[1]Лист1!$D$1:$D$2725,1,0) -> #N/A
A11: 0876100000008 | B11: ФЕДЕРАЛЬНОЕ КАЗЕННОЕ УЧРЕЖДЕНИЕ "КОЛОНИЯ-ПОСЕЛЕНИЕ № 4 УПРАВЛЕНИЯ ФЕДЕРАЛЬНОЙ СЛУЖБЫ ИСПОЛНЕНИЯ НАКАЗАНИЙ ПО РЕСПУБЛИКЕ АДЫГЕЯ (АДЫГЕЯ)" | C11: ФКУ КП-4 УФСИН РОССИИ ПО РЕСПУБЛИКЕ АДЫГЕЯ | D11: 801 - включена | E11: 0103006910 | F11: 010101001 | G11: 1020100510407 | H11: 0173100000123 | I11: Федеральное дорожное агентство | J11: 10 - автономное учреждение | L11: 39834 | M11: 39972 | O11: 40261 | Q11: =VLOOKUP(E11:E5779,[1]Лист1!$D$1:$D$2725,1,0) -> #N/A
A12: 0376100000050 | B12: ОТДЕЛ МИНИСТЕРСТВА ВНУТРЕННИХ ДЕЛ РОССИЙСКОЙ ФЕДЕРАЦИИ ПО МАЙКОПСКОМУ РАЙОНУ | C12: ОТДЕЛ МВД РОССИИ ПО МАЙКОПСКОМУ РАЙОНУ | D12: 801 - включена | E12: 0104005701 | F12: 010401001 | G12: 1020100709826 | J12: 10 - автономное учреждение | L12: 40298 | M12: 40326 | Q12: =VLOOKUP(E12:E5780,[1]Лист1!$D$1:$D$2725,1,0) -> #N/A
A13: 0376100000081 | B13: Отделение по Майкопскому району Управления Федерального казначейства по Республике Адыгея (Адыгея) | C13: Отделение по Майкопскому району УФК по Республике Адыгея | D13: 801 - включена | E13: 0104005740 | F13: 010401001 | G13: 1020100702731 | J13: 10 - автономное учреждение | L13: 40340 | M13: 40346 | O13: 40317 | Q13: =VLOOKUP(E13:E5781,[1]Лист1!$D$1:$D$2725,1,0) -> #N/A
A14: 0376100000015 | B14: Федеральное бюджетное учреждение "Государственный региональный центр стандартизации, метрологии и испытаний в Республике Адыгея" | C14: ФБУ "Адыгейский ЦСМ" | D14: 801 - включена | E14: 0105015580 | F14: 010501001 | G14: 1020100694701 | J14: 10 - автономное учреждение | L14: 40371 | M14: 40373 | O14: 39714 | Q14: =VLOOKUP(E14:E5782,[1]Лист1!$D$1:$D$2725,1,0) -> #N/A
A15: 0376100000065 | B15: федеральное государственное бюджетное образовательное учреждение высшего профессионального образования "Адыгейский государственный университет" | C15: ФГБОУ ВПО "АГУ" | D15: 801 - включена | E15: 0105017636 | F15: 010501001 | G15: 1020100698750 | J15: 10 - автономное учреждение | L15: 39863 | M15: 39972 | O15: 39939 | Q15: =VLOOKUP(E15:E5783,[1]Лист1!$D$1:$D$2725,1,0) -> 0105017636
A16: 0876100000014 | B16: ФЕДЕРАЛЬНОЕ КАЗЕННОЕ ПРОФЕССИОНАЛЬНОЕ ОБРАЗОВАТЕЛЬНОЕ УЧРЕЖДЕНИЕ № 199 ФЕДЕРАЛЬНОЙ СЛУЖБЫ ИСПОЛНЕНИЯ НАКАЗАНИЙ | C16: ФКП ОБРАЗОВАТЕЛЬНОЕ УЧРЕЖДЕНИЕ № 199 | D16: 801 - включена | E16: 0105018132 | F16: 010501001 | G16: 1020100704007 | J16: 10 - автономное учреждение | K16: 05 - организации предоставляются субсидии | L16: 39931 | M16: 40338 | O16: 40227 | Q16: =VLOOKUP(E16:E5784,[1]Лист1!$D$1:$D$2725,1,0) -> #N/A
A17: 0376100000001 | B17: Арбитражный суд Республики Адыгея | D17: 801 - включена | E17: 0105018622 | F17: 010501001 | G17: 1030100530866 | J17: 10 - автономное учреждение | L17: 40374 | M17: 40375 | O17: 40134 | Q17: =VLOOKUP(E17:E5785,[1]Лист1!$D$1:$D$2725,1,0) -> #N/A
A18: 1076100000001 | B18: федеральное автономное учреждение "Адыгейский центр профессиональной подготовки и повышения квалификации кадров Федерального дорожного агентства" | C18: ФАУ "Адыгейский ЦППК" | D18: 801 - включена | E18: 0105020886 | F18: 010501001 | G18: 1020100694481 | J18: 10 - автономное учреждение | L18: 40299 | M18: 40330 | O18: 40291 | Q18: =VLOOKUP(E18:E5786,[1]Лист1!$D$1:$D$2725,1,0) -> #N/A
A19: 0376100000013 | B19: Майкопский государственный гуманитарно-технический колледж Федерального государственного бюджетного образовательного учреждения высшего профессионального образования "Адыгейский государственный университет" | C19: МГГТК ФГБОУ ВПО "АГУ" | D19: 801 - включена | E19: 0105021456 | F19: 010501001 | G19: 1020100705470 | J19: 10 - автономное учреждение | L19: 40153 | M19: 40331 | Q19: =VLOOKUP(E19:E5787,[1]Лист1!$D$1:$D$2725,1,0) -> #N/A
A20: 0876100000017 | B20: федеральное государственное бюджетное учреждение "Управление мелиорации земель и сельскохозяйственного водоснабжения по Республике Адыгея" | C20: ФГБУ "Управление "Адыгеямелиоводхоз" | D20: 801 - включена | E20: 0105022178 | F20: 010501001 | G20: 1020100697100 | H20: 0173100000098 | I20: Федеральное агентство воздушного транспорта | J20: 10 - автономное учреждение | L20: 39895 | M20: 39971 | O20: 39960 | Q20: =VLOOKUP(E20:E5788,[1]Лист1!$D$1:$D$2725,1,0) -> 0105022178
A21: 0376100000080 | B21: Федеральное бюджетное учреждение - войсковая часть 64670 | C21: ФБУ - войсковая часть 64670 | D21: 801 - включена | E21: 0105022587 | F21: 010501001 | G21: 1020100710772 | J21: 10 - автономное учреждение | L21: 39790 | M21: 40290 | Q21: =VLOOKUP(E21:E5790,[1]Лист1!$D$1:$D$2725,1,0) -> #N/A
A22: 0876100000005 | B22: федеральное казенное учреждение "Отдел капитального строительства Управления Федеральной службы исполнения наказаний по Республике Адыгея (Адыгея)" | C22: ФКУ ОКС УФСИН России по Республике Адыгея | D22: 801 - включена | E22: 0105031366 | F22: 010501001 | G22: 1020100699970 | H22: 0173100000123 | I22: Федеральное дорожное агентство | J22: 10 - автономное учреждение | L22: 40335 | M22: 40337 | O22: 40128 | Q22: =VLOOKUP(E22:E5791,[1]Лист1!$D$1:$D$2725,1,0) -> #N/A
A23: 0876100000002 | B23: ФЕДЕРАЛЬНОЕ КАЗЕННОЕ УЧРЕЖДЕНИЕ "ЦЕНТР ИНЖЕНЕРНО-ТЕХНИЧЕСКОГО ОБЕСПЕЧЕНИЯ УПРАВЛЕНИЯ ФЕДЕРАЛЬНОЙ СЛУЖБЫ ИСПОЛНЕНИЯ НАКАЗАНИЙ ПО РЕСПУБЛИКЕ АДЫГЕЯ (АДЫГЕЯ)" | C23: ФКУ ЦИТО УФСИН РОССИИ ПО РЕСПУБЛИКЕ АДЫГЕЯ | D23: 801 - включена | E23: 0105036124 | F23: 010501001 | G23: 1020100704975 | J23: 10 - автономное учреждение | L23: 39884 | M23: 39972 | O23: 40068 | Q23: =VLOOKUP(E23:E5792,[1]Лист1!$D$1:$D$2725,1,0) -> #N/A
A24: 0876100000001 | B24: федеральное казенное учреждение "Исправительная колония № 6 Управления Федеральной службы исполнения наказаний по Республике Адыгея (Адыгея)" | C24: ФКУ ИК-6 УФСИН России по Республике Адыгея | D24: 801 - включена | E24: 0105036685 | F24: 010501001 | G24: 1020100704348 | J24: 10 - автономное учреждение | Q24: =VLOOKUP(E24:E5793,[1]Лист1!$D$1:$D$2725,1,0) -> #N/A
A25: 0876100000006 | B25: федеральное казенное учреждение "Жилищно-коммунальный отдел Управления Федеральной службы исполнения наказаний по Республике Адыгея (Адыгея)" | C25: ФКУ ЖКО УФСИН России по Республике Адыгея | D25: 801 - включена | E25: 0105038065 | F25: 010501001 | G25: 1020100707021 | J25: 10 - автономное учреждение | L25: 39731 | M25: 39972 | O25: 40290 | Q25: =VLOOKUP(E25:E5794,[1]Лист1!$D$1:$D$2725,1,0) -> #N/A
A26: 0876100000010 | B26: федеральное казенное образовательное учреждение дополнительного профессионального образования "Учебный пункт Управления Федеральной службы исполнения наказаний по Республике Адыгея (Адыгея)" | C26: ФКОУ ДПО УП УФСИН России по Республике Адыгея | D26: 801 - включена | E26: 0105038315 | F26: 010501001 | G26: 1020100706856 | J26: 10 - автономное учреждение | L26: 39640 | M26: 39971 | O26: 40242 | Q26: =VLOOKUP(E26:E5795,[1]Лист1!$D$1:$D$2725,1,0) -> #N/A
A27: 0803100000015 | B27: ФЕДЕРАЛЬНОЕ КАЗЕННОЕ УЧРЕЖДЕНИЕ "ЦЕНТР ИНЖЕНЕРНО-ТЕХНИЧЕСКОГО ОБЕСПЕЧЕНИЯ И ВООРУЖЕНИЯ УПРАВЛЕНИЯ ФЕДЕРАЛЬНОЙ СЛУЖБЫ ИСПОЛНЕНИЯ НАКАЗАНИЙ ПО РЕСПУБЛИКЕ ДАГЕСТАН" | C27: ФКУ ЦИТОВ УФСИН РОССИИ ПО РЕСПУБЛИКЕ ДАГЕСТАН | D27: 801 - включена | E27: 0105038315 | F27: 057301001 | G27: 1020100706856 | H27: 0173100000123 | I27: Федеральное дорожное агентство | J27: 10 - автономное учреждение | L27: 39679 | M27: 39971 | O27: 39826 | Q27: =VLOOKUP(E27:E5796,[1]Лист1!$D$1:$D$2725,1,0) -> #N/A
A28: 0876100000003 | B28: федеральное казенное учреждение "Центр медицинской и социальной реабилитации Управления Федеральной службы исполнения наказаний по Республике Адыгея (Адыгея)" | C28: ФКУ ЦМСР УФСИН России по Республике Адыгея | D28: 801 - включена | E28: 0105041999 | F28: 010501001 | G28: 1040100533978 | J28: 10 - автономное учреждение | L28: 39772 | M28: 39972 | O28: 39905 | Q28: =VLOOKUP(E28:E5797,[1]Лист1!$D$1:$D$2725,1,0) -> #N/A
A29: 0827100000048 | B29: ФЕДЕРАЛЬНОЕ КАЗЕННОЕ УЧРЕЖДЕНИЕ ЗДРАВООХРАНЕНИЯ "МЕДИКО-САНИТАРНАЯ ЧАСТЬ № 32 ФЕДЕРАЛЬНОЙ СЛУЖБЫ ИСПОЛНЕНИЯ НАКАЗАНИЙ" | C29: ФКУЗ МСЧ-32 ФСИН РОССИИ | D29: 801 - включена | E29: 0105041999 | F29: 325701001 | G29: 1040100533978 | H29: 0173100000123 | I29: Федеральное дорожное агентство | J29: 10 - автономное учреждение | L29: 40038 | M29: 40050 | O29: 40367 | Q29: =VLOOKUP(E29:E5798,[1]Лист1!$D$1:$D$2725,1,0) -> #N/A
A30: 0876100000015 | B30: Федеральное казенное учреждение "Главное бюро медико-социальной экспертизы по Республике Адыгея (Адыгея)" Министерства труда и социальной защиты Российской Федерации. | C30: ФКУ "ГБ МСЭ по Республике Адыгея (Адыгея)" Минтруда России. | D30: 801 - включена | E30: 0105043890 | F30: 010501001 | G30: 1040100553525 | H30: 0173100000123 | I30: Федеральное дорожное агентство | J30: 10 - автономное учреждение | L30: 39900 | M30: 39972 | Q30: =VLOOKUP(E30:E5799,[1]Лист1!$D$1:$D$2725,1,0) -> #N/A
A31: 0376100000007 | B31: Федеральное бюджетное учреждение здравоохранения "Центр гигиены и эпидемиологии в Республике Адыгея" | C31: ФБУЗ "Центр гигиены и эпидемиологии в Республике Адыгея" | D31: 801 - включена | E31: 0105044421 | F31: 010501001 | G31: 1050100534890 | H31: 0173100000123 | I31: Федеральное дорожное агентство | J31: 10 - автономное учреждение | L31: 40337 | M31: 40339 | O31: 39966 | Q31: =VLOOKUP(E31:E5800,[1]Лист1!$D$1:$D$2725,1,0) -> 0105044421
A32: 0376100000021 | B32: федеральное казеное учреждение "Центр управления в кризисных ситуациях Главного управления МЧС России по Республике Адыгея" | C32: ФКУ "ЦУКС ГУ МЧС России по Республике Адыгея" | D32: 801 - включена | E32: 0105044823 | F32: 010501001 | G32: 1050100541457 | J32: 10 - автономное учреждение | L32: 39758 | M32: 39971 | O32: 39497 | Q32: =VLOOKUP(E32:E5801,[1]Лист1!$D$1:$D$2725,1,0) -> #N/A
A33: 0876100000009 | B33: ФЕДЕРАЛЬНОЕ КАЗЕННОЕ УЧРЕЖДЕНИЕ ЗДРАВООХРАНЕНИЯ "МЕДИКО-САНИТАРНАЯ ЧАСТЬ МИНИСТЕРСТВА ВНУТРЕННИХ ДЕЛ РОССИЙСКОЙ ФЕДЕРАЦИИ ПО РЕСПУБЛИКЕ АДЫГЕЯ" | C33: ФКУЗ "МСЧ МВД РОССИИ ПО РЕСПУБЛИКЕ АДЫГЕЯ" | D33: 801 - включена | E33: 0105047430 | F33: 010501001 | G33: 1060105011361 | J33: 10 - автономное учреждение | L33: 39832 | M33: 40284 | Q33: =VLOOKUP(E33:E5802,[1]Лист1!$D$1:$D$2725,1,0) -> #N/A
A34: 0376100000035 | B34: Военный комиссариат Республики Адыгея | C34: Военный комиссариат Республики Адыгея | D34: 801 - включена | E34: 0105060159 | F34: 010501001 | G34: 1100105000126 | H34: 0173100000132 | I34: Министерство образования и науки Российской Федерации | J34: 10 - автономное учреждение | L34: 40298 | M34: 40326 | O34: 40339 | Q34: =VLOOKUP(E34:E5803,[1]Лист1!$D$1:$D$2725,1,0) -> #N/A
A35: 0876100000007 | B35: Федеральное казенное учреждение "Отдел финансового обеспечения Министерства обороны Российской Федерации по Республике Адыгея" | C35: ФКУ "ОФО МО РФ по Республике Адыгея" | D35: 801 - включена | E35: 0105062572 | F35: 010501001 | G35: 1100105002821 | H35: 0173100000123 | I35: Федеральное дорожное агентство | J35: 10 - автономное учреждение | L35: 39864 | M35: 39972 | Q35: =VLOOKUP(E35:E5804,[1]Лист1!$D$1:$D$2725,1,0) -> #N/A
A36: 0876100000016 | B36: федеральное казенное учреждение "Уголовно-исполнительная инспекция Управления Федеральной службы исполнения наказаний по Республике Адыгея (Адыгея)" | C36: ФКУ УИИ УФСИН России по Республике Адыгея | D36: 801 - включена | E36: 0105064682 | F36: 010501001 | G36: 1110105002633 | J36: 10 - автономное учреждение | L36: 40332 | M36: 40333 | O36: 40331 | Q36: =VLOOKUP(E36:E5805,[1]Лист1!$D$1:$D$2725,1,0) -> #N/A
A37: 0895100000164 | B37: федеральное казенное учреждение "Центр хозяйственного и сервисного обеспечения Министерства внутренних дел по Республике Адыгея" | C37: ФКУ "ЦХиСО МВД по Республике Адыгея" | D37: 801 - включена | E37: 0105066680 | F37: 010501001 | G37: 1120105001719 | J37: 10 - автономное учреждение | L37: 40235 | M37: 40338 | Q37: =VLOOKUP(E37:E5806,[1]Лист1!$D$1:$D$2725,1,0) -> #N/A
A38: 0895100000938 | B38: федеральное государственное казенное учреждение "Отдел вневедомственной охраны Министерства внутренних дел по Республике Адыгея" | C38: ФГКУ ОВО МВД по Республике Адыгея | D38: 801 - включена | E38: 0105067122 | F38: 010501001 | G38: 1120105002203 | J38: 10 - автономное учреждение | L38: 40298 | M38: 40326 | O38: 40331 | Q38: =VLOOKUP(E38:E5807,[1]Лист1!$D$1:$D$2725,1,0) -> #N/A
A39: 0895100001504 | B39: федеральное государственное казенное учреждение "1 отряд федеральной противопожарной службы по Республике Адыгея" | C39: ФГКУ "1 ОФПС по Республике Адыгея" | D39: 801 - включена | E39: 0105068038 | F39: 010501001 | G39: 1130105000190 | J39: 10 - автономное учреждение | L39: 40366 | M39: 40368 | O39: 40033 | Q39: =VLOOKUP(E39:E5808,[1]Лист1!$D$1:$D$2725,1,0) -> #N/A
A40: 0876100000004 | B40: федеральное казенное учреждение "Исправительная колония № 2 Управления Федеральной службы исполнения наказаний по Республике Адыгея (Адыгея)" | C40: ФКУ ИК № 2 УФСИН России по Республике Адыгея | D40: 801 - включена | E40: 0106000346 | F40: 010701001 | G40: 1020100822422 | J40: 10 - автономное учреждение | L40: 40332 | M40: 40333 | Q40: =VLOOKUP(E40:E5809,[1]Лист1!$D$1:$D$2725,1,0) -> #N/A
A41: 0876100000012 | B41: федеральное казенное учреждение "Колония-поселение № 3 Управления Федеральной службы исполнения наказаний по Республике Адыгея (Адыгея)" | C41: ФКУ КП-3 УФСИН России по Республике Адыгея | D41: 801 - включена | E41: 0106008930 | F41: 010701001 | G41: 1020100822862 | H41: 0173100000123 | I41: Федеральное дорожное агентство | J41: 10 - автономное учреждение | L41: 39771 | M41: 39971 | O41: 40022 | Q41: =VLOOKUP(E41:E5810,[1]Лист1!$D$1:$D$2725,1,0) -> #N/A
A42: 0376100000036 | B42: федеральное казенное учреждение "Исправительная колония № 1 Управления Федеральной службы исполнения наказаний по Республике Адыгея (Адыгея)" | C42: ФКУ ИК-1 УФСИН России по Республике Адыгея | D42: 801 - включена | E42: 0107005795 | F42: 010701001 | G42: 1020100859899 | H42: 0173100000123 | I42: Федеральное дорожное агентство | J42: 10 - автономное учреждение | L42: 40332 | M42: 40333 | O42: 40323 | Q42: =VLOOKUP(E42:E5811,[1]Лист1!$D$1:$D$2725,1,0) -> #N/A
A43: 0376100000032 | B43: ФЕДЕРАЛЬНОЕ КАЗЕННОЕ ПРОФЕССИОНАЛЬНОЕ ОБРАЗОВАТЕЛЬНОЕ УЧРЕЖДЕНИЕ №200 ФЕДЕРАЛЬНОЙ СЛУЖБЫ ИСПОЛНЕНИЯ НАКАЗАНИЙ | C43: ФКП ОБРАЗОВАТЕЛЬНОЕ УЧРЕЖДЕНИЕ № 200 | D43: 801 - включена | E43: 0107005820 | F43: 010701001 | G43: 1040100669498 | H43: 0173100000123 | I43: Федеральное дорожное агентство | J43: 10 - автономное учреждение | L43: 40048 | M43: 40157 | O43: 40278 | Q43: =VLOOKUP(E43:E5812,[1]Лист1!$D$1:$D$2725,1,0) -> #N/A
...

Sheet Лист1
A1: 0301100000241 | B1: Федеральное государственное бюджетное учреждение "Государственный природный заповедник "Шульган-Таш" | C1: ФГБУ "Государственный заповедник "Шульган-таш" | D1: 801 - включена | E1: 0218000136 | F1: 021801001 | G1: 1030202047875 | H1: 0173100000135 | I1: Министерство обороны Российской Федерации | J1: 08 - казенное учреждение | L1: 39888 | M1: 40339 | Q1: 0218000136
A2: 0301100000475 | B2: Столовая федерального государственного бюджетного образовательного учреждения высшего профессионального образования "Башкирский государственный университет" | C2: Cтоловая БашГУ | D2: 801 - включена | E2: 0274011237 | F2: 027402001 | G2: 1030203895193 | H2: 0373100000615 | I2: Министерство внутренних дел Российской Федерации | J2: 08 - казенное учреждение | L2: 39802 | M2: 39972 | N2: 188 | O2: 40032 | Q2: 0274011237
A3: 0301100000182 | B3: ФЕДЕРАЛЬНОЕ ГОСУДАРСТВЕННОЕ БЮДЖЕТНОЕ ОБРАЗОВАТЕЛЬНОЕ УЧРЕЖДЕНИЕ ВЫСШЕГО ПРОФЕССИОНАЛЬНОГО ОБРАЗОВАНИЯ "УФИМСКИЙ ГОСУДАРСТВЕННЫЙ АВИАЦИОННЫЙ ТЕХНИЧЕСКИЙ УНИВЕРСИТЕТ" | C3: ФГБОУ ВПО "УГАТУ", УГАТУ | D3: 801 - включена | E3: 0274023747 | F3: 027401001 | G3: 1030203899527 | H3: 0373100000615 | I3: Министерство внутренних дел Российской Федерации | J3: 08 - казенное учреждение | L3: 39897 | M3: 39972 | N3: 188 | O3: 39889 | Q3: 0274023747
A4: 0395100009933 | B4: Столовая федерального государственного бюджетного образовательного учреждения высшего профессионального образования "Башкирский государственный педагогический университет им. М.Акмуллы" | C4: Столовая ФГБОУ ВПО "БГПУ им. М.Акмуллы" | D4: 801 - включена | E4: 0274035573 | F4: 027402003 | G4: 1020202554778 | H4: 0373100000615 | I4: Министерство внутренних дел Российской Федерации | J4: 08 - казенное учреждение | L4: 40335 | M4: 40337 | N4: 188 | O4: 40096 | Q4: 0274035573
A5: 0301100000461 | B5: Столовая федерального государственного бюджетного образовательного учреждения высшего профессионального образования "Башкирский государственный педагогический университет им. М.Акмуллы" | C5: Столовая ФГБОУ ВПО "БГПУ им. М.Акмуллы" | D5: 801 - включена | E5: 0274035573 | F5: 027402003 | G5: 1020202554778 | H5: 0373100000615 | I5: Министерство внутренних дел Российской Федерации | J5: 08 - казенное учреждение | L5: 40298 | M5: 40337 | N5: 188 | O5: 39967 | Q5: 0274035573
A6: 0301100000426 | B6: федеральное бюджетное учреждение Башкирская лаборатория судебной экспертизы Министерства юстиции Российской Федерации | C6: ФБУ Башкирская ЛСЭ Минюста России | D6: 801 - включена | E6: 0276013335 | F6: 027601001 | G6: 1020202853330 | H6: 0173100000062 | I6: Министерство внутренних дел Российской Федерации | J6: 08 - казенное учреждение | L6: 40335 | M6: 40337 | N6: 188 | O6: 39742 | Q6: 0276013335
A7: 0301100000271 | B7: Институт дополнительного профессионального образования | C7: ССП УГНТУ "ИДПО" | D7: 801 - включена | E7: 0277006179 | F7: 027732005 | G7: 2080277116060 | H7: 0373100000615 | I7: Министерство внутренних дел Российской Федерации | J7: 08 - казенное учреждение | L7: 40336 | M7: 40345 | N7: 188 | O7: 40288 | Q7: 0277006179
A8: 0301100000253 | B8: Самостоятельное структурное подразделение Уфимского государственного нефтяного технического университета хозрасчетная научно-исследовательская лаборатория "Трубопроводсервис" | C8: ССП УГНТУ ХНИЛ "Трубопроводсервис" | D8: 801 - включена | E8: 0277006179 | F8: 027745002 | G8: 1020203079016 | H8: 0373100000615 | I8: Министерство внутренних дел Российской Федерации | J8: 08 - казенное учреждение | L8: 39716 | M8: 39972 | Q8: 0277006179
A9: 0301100000252 | B9: Центр социального развития | C9: ССП УГНТУ "ЦСР" | D9: 801 - включена | E9: 0277006179 | F9: 027745001 | G9: 1020203079016 | H9: 0373100000615 | I9: Министерство внутренних дел Российской Федерации | J9: 08 - казенное учреждение | L9: 39983 | M9: 40338 | N9: 188 | O9: 40214 | Q9: 0277006179
A10: 0301100000251 | B10: Центр сервиса трубопроводных систем | C10: ССП УГНТУ "ЦСТС" | D10: 801 - включена | E10: 0277006179 | F10: 027732004 | G10: 1020203079016 | H10: 0373100000615 | I10: Министерство внутренних дел Российской Федерации | J10: 08 - казенное учреждение | L10: 40374 | M10: 40375 | N10: 188 | O10: 39810 | Q10: 0277006179
A11: 0301100000250 | B11: Хозрасчетная научно-исследовательская лаборатория "УПЦ КСК" | C11: ССП УГНТУ ХНИЛ "УПЦ КСК" | D11: 801 - включена | E11: 0277006179 | F11: 027745007 | G11: 1020203079016 | H11: 0373100000615 | I11: Министерство внутренних дел Российской Федерации | J11: 08 - казенное учреждение | L11: 40336 | M11: 40339 | N11: 188 | O11: 40351 | Q11: 0277006179
A12: 0301100000248 | B12: Хозрасчетная научно-исследовательская лаборатория "УГЦ Стройтехэкспертиза" | C12: ССП УГНТУ ХНИЛ "УГЦ Стройтехэкспертиза" | D12: 801 - включена | E12: 0277006179 | F12: 027745008 | G12: 1020203079016 | H12: 0373100000615 | I12: Министерство внутренних дел Российской Федерации | J12: 08 - казенное учреждение | L12: 39999 | M12: 40001 | N12: 188 | O12: 39984 | Q12: 0277006179
A13: 0301100000236 | B13: Хозрасчетная научно-исследовательская лаборатория "КК МАХП" | C13: ССП УГНТУ ХНИЛ "КК МАХП" | D13: 801 - включена | E13: 0277006179 | F13: 027745005 | G13: 1020203079016 | H13: 0173100000135 | I13: Министерство обороны Российской Федерации | J13: 08 - казенное учреждение | L13: 40335 | M13: 40337 | N13: 187 | O13: 39985 | Q13: 0277006179
A14: 0301100000235 | B14: Центр аудита и инжиниринга пожарно-промышленной безопасности | C14: ССП УГНТУ "ЦПБ" | D14: 801 - включена | E14: 0277006179 | F14: 027732006 | G14: 1020203079016 | H14: 0373100000615 | I14: Министерство внутренних дел Российской Федерации | J14: 08 - казенное учреждение | L14: 40297 | M14: 40337 | N14: 188 | O14: 40208 | Q14: 0277006179
A15: 0301100000234 | B15: Учебно-научно-производственный центр "Финэк" | C15: ССП УГНТУ УНПЦ "Финэк" | D15: 801 - включена | E15: 0277006179 | F15: 027732001 | G15: 1020203079016 | H15: 0373100000615 | I15: Министерство внутренних дел Российской Федерации | J15: 08 - казенное учреждение | L15: 39696 | M15: 39972 | N15: 188 | O15: 40232 | Q15: 0277006179
A16: 0301100000233 | B16: Хозрасчетная научно-исследовательская лаборатория " ИИС " | C16: ССП УГНТУ ХНИЛ "ИИС" | D16: 801 - включена | E16: 0277006179 | F16: 027745006 | G16: 1020203079016 | H16: 0373100000615 | I16: Министерство внутренних дел Российской Федерации | J16: 08 - казенное учреждение | L16: 40332 | M16: 40333 | N16: 188 | O16: 40284 | Q16: 0277006179
A17: 0301100000232 | B17: Хозрасчетная научно-исследовательская лаборатория "НИПИНефтегаз" | C17: ССП УГНТУ ХНИЛ "НИПИНефтегаз" | D17: 801 - включена | E17: 0277006179 | F17: 027745004 | G17: 1020203079016 | H17: 0173100000062 | I17: Министерство внутренних дел Российской Федерации | J17: 08 - казенное учреждение | L17: 40333 | M17: 40334 | N17: 188 | O17: 40264 | Q17: 0277006179
A18: 0301100000231 | B18: Хозрасчетная научно-исследовательская лаборатория "Транснефтегаз" | C18: ССП УГНТУ ХНИЛ "Транснефтегаз" | D18: 801 - включена | E18: 0277006179 | F18: 027745003 | G18: 1020203079016 | H18: 0373100000615 | I18: Министерство внутренних дел Российской Федерации | J18: 08 - казенное учреждение | L18: 40374 | M18: 40375 | N18: 188 | O18: 39765 | Q18: 0277006179
A19: 0301100000088 | B19: ФЕДЕРАЛЬНОЕ ГОСУДАРСТВЕННОЕ БЮДЖЕТНОЕ УЧРЕЖДЕНИЕ НАУКИ ИНСТИТУТ НЕФТЕХИМИИ И КАТАЛИЗА РОССИЙСКОЙ АКАДЕМИИ НАУК | C19: ИНК РАН | D19: 801 - включена | E19: 0277011683 | F19: 027701001 | G19: 1020203083944 | H19: 0373100000615 | I19: Министерство внутренних дел Российской Федерации | J19: 08 - казенное учреждение | L19: 39786 | M19: 39972 | N19: 188 | O19: 40036 | Q19: 0277011683
A20: 0302100000040 | B20: Федеральное государственное бюджетное учреждение "Байкальский государственный природный биосферный заповедник" | C20: ФГБУ "Байкальский государственный заповедник" | D20: 801 - включена | E20: 0309004681 | F20: 030901001 | G20: 1020300666891 | H20: 0373100000615 | I20: Министерство внутренних дел Российской Федерации | J20: 08 - казенное учреждение | L20: 40299 | M20: 40333 | N20: 188 | O20: 40018 | Q20: 0309004681
... A27: 0303100000083 | B27: федеральное государственное бюджетное учреждение "Дирекция строящихся сельскохозяйственных, мелиоративных и водохозяйственных объектов в Республике Дагестан" | C27: ФГБУ "Дагсельхозмелиоводстрой" | D27: 801 - включена | E27: 0541000230 | F27: 057201001 | G27: 1020502628915 | H27: 0173100000107 | I27: Федеральная служба исполнения наказаний | J27: 08 - казенное учреждение | L27: 39927 | M27: 40213 | N27: 320 | O27: 39924 | Q27: 0541000230
A28: 0303100000052 | B28: Федеральное государственное научное учреждение "Институт национальных проблем в образовании" Российской академии образования | C28: ФГНУ ИНПО РАО | D28: 801 - включена | E28: 0541025475 | F28: 057101001 | G28: 1020502629696 | H28: 0173100000107 | I28: Федеральная служба исполнения наказаний | J28: 08 - казенное учреждение | L28: 40365 | M28: 40367 | Q28: 0541025475
A29: 0303100000043 | B29: федеральное государственное бюджетное учреждение "Западно-Каспийское бассейновое управление по рыболовству и сохранению водных биологических ресурсов" | C29: ФГБУ "Запкаспрыбвод" | D29: 801 - включена | E29: 0560008210 | F29: 057301001 | G29: 1020502458030 | H29: 0173100000140 | I29: Министерство Российской Федерации по делам гражданской обороны, чрезвычайным ситуациям и ликвидации последствий стихийных бедствий | J29: 08 - казенное учреждение | L29: 39863 | M29: 40138 | N29: 177 | O29: 40281 | Q29: 0560008210
A30: 0303100000001 | B30: федеральное бюджетное учреждение Дагестанская лаборатория судебной экспертизы Министерства юстиции Российской Федерации | C30: ФБУ Дагестанская ЛСЭ Минюста России | D30: 801 - включена | E30: 0560015063 | F30: 057301001 | G30: 1020502458503 | H30: 0173100000088 | I30: Министерство энергетики Российской Федерации | J30: 08 - казенное учреждение | L30: 40336 | M30: 40339 | N30: 022 | O30: 39917 | Q30: 0560015063
A31: 0303100000008 | B31: ФЕДЕРАЛЬНОЕ ГОСУДАРСТВЕННОЕ БЮДЖЕТНОЕ ОБРАЗОВАТЕЛЬНОЕ УЧРЕЖДЕНИЕ ДОПОЛНИТЕЛЬНОГО ПРОФЕССИОНАЛЬНОГО ОБРАЗОВАНИЯ СПЕЦИАЛИСТОВ "ДАГЕСТАНСКИЙ ИНСТИТУТ ПОВЫШЕНИЯ КВАЛИФИКАЦИИ КАДРОВ АПК" | C31: ФГБОУ ДПОС ДИПКК АПК | D31: 801 - включена | E31: 0560019420 | F31: 057201001 | G31: 1020502460990 | H31: 0173100000107 | I31: Федеральная служба исполнения наказаний | J31: 08 - казенное учреждение | L31: 40336 | M31: 40339 | N31: 320 | O31: 40362 | Q31: 0560019420
A32: 0303100000114 | B32: Федеральное государственное бюджетное учреждение по водному хозяйству "Дагводресурсы" | C32: ФГУ "Дагводресурсы" | D32: 801 - включена | E32: 0560020546 | F32: 057001001 | G32: 1020502461308 | H32: 0173100000107 | I32: Федеральная служба исполнения наказаний | J32: 08 - казенное учреждение | L32: 39864 | M32: 40338 | N32: 320 | O32: 40048 | Q32: 0560020546
A33: 0395100004376 | B33: ФЕДЕРАЛЬНОЕ ГОСУДАРСТВЕННОЕ БЮДЖЕТНОЕ УЧРЕЖДЕНИЕ "МИНИСТЕРСТВО МЕЛИОРАЦИИ ЗЕМЕЛЬ И СЕЛЬСКОХОЗЯЙСТВЕННОГО ВОДОСНАБЖЕНИЯ РЕСПУБЛИКИ ДАГЕСТАН" | C33: ФГБУ "МИНМЕЛИОВОДХОЗ РД" | D33: 801 - включена | E33: 0560022374 | F33: 057301001 | G33: 1020502457821 | H33: 0173100000107 | I33: Федеральная служба исполнения наказаний | J33: 08 - казенное учреждение | L33: 40365 | M33: 40367 | N33: 320 | O33: 40053 | Q33: 0560022374
A34: 0303100000160 | B34: Федеральное бюджетное учреждение здравоохранения "Центр гигиены и эпидемиологии в Республике Дагестан" | C34: ФБУЗ "Центр гигиены и эпидемиологии в Республике Дагестан" | D34: 801 - включена | E34: 0560029186 | F34: 057001001 | G34: 1050560002041 | H34: 0173100000062 | I34: Министерство внутренних дел Российской Федерации | J34: 08 - казенное учреждение | L34: 39644 | M34: 39744 | N34: 188 | O34: 39487 | Q34: 0560029186
A35: 0303100000259 | B35: Государственное научное учреждение Дагестанский научно-исследовательский институт сельского хозяйства Российской академии сельскохозяйственных наук | C35: ГНУ Дагестанский НИИСХ Россельхозакадемии | D35: 801 - включена | E35: 0560205272 | F35: 057001001 | G35: 1020502457788 | H35: 0373100000615 | I35: Министерство внутренних дел Российской Федерации | J35: 08 - казенное учреждение | L35: 40215 | M35: 40271 | N35: 188 | O35: 39794 | Q35: 0560205272
A36: 0303100000137 | B36: федеральное государственное бюджетное образовательное учреждение высшего профессионального образования "Дагестанский государственный педагогический университет" | C36: ДГПУ | D36: 801 - включена | E36: 0561039211 | F36: 054101001 | G36: 1020502522435 | H36: 0173100000107 | I36: Федеральная служба исполнения наказаний | J36: 08 - казенное учреждение | L36: 40335 | M36: 40337 | N36: 320 | O36: 40260 | Q36: 0561039211
A37: 0303100000013 | B37: Федеральное государственное бюджетное учреждение "Государственный природный заповедник "Дагестанский" | C37: ФГБУ "Государственный заповедник "Дагестанский" | D37: 801 - включена | E37: 0561039349 | F37: 057101001 | G37: 1020502522281 | H37: 0173100000107 | I37: Федеральная служба исполнения наказаний | J37: 08 - казенное учреждение | L37: 40207 | M37: 40294 | N37: 320 | O37: 39969 | Q37: 0561039349
A38: 0303100000014 | B38: государственное бюджетное образовательное учреждение высшего профессионального образования "Дагестанская государственная медицинская академия" Министерства здравоохранения Российской Федерации | C38: ГБОУ ВПО ДГМА Минздрава России | D38: 801 - включена | E38: 0562010215 | F38: 054101001 | G38: 1020502631643 | H38: 0373100000615 | I38: Министерство внутренних дел Российской Федерации | J38: 08 - казенное учреждение | L38: 39864 | M38: 39972 | N38: 188 | O38: 40057 | Q38: 0562010215
A39: 0303100000130 | B39: федеральное государственное бюджетное образовательное учреждение высшего профессионального образования "Дагестанский государственный университет" | C39: ДГУ | D39: 801 - включена | E39: 0562039983 | F39: 054101001 | G39: 1020502631621 | H39: 0173100000107 | I39: Федеральная служба исполнения наказаний | J39: 08 - казенное учреждение | L39: 39865 | M39: 40058 | N39: 320 | O39: 40026 | Q39: 0562039983
A40: 0303100000025 | B40: Федеральное государственное бюджетное учреждение науки Институт физики им. Х.И. Амирханова Дагестанского научного центра Российской академии наук | C40: ИФ ДНЦ РАН | D40: 801 - включена | E40: 0562044084 | F40: 057201001 | G40: 1020502628695 | H40: 0173100000107 | I40: Федеральная служба исполнения наказаний | J40: 08 - казенное учреждение | L40: 40335 | M40: 40337 | N40: 320 | O40: 40024 | Q40: 0562044084
A41: 0303100000066 | B41: ФЕДЕРАЛЬНОЕ ГОСУДАРСТВЕННОЕ БЮДЖЕТНОЕ УЧРЕЖДЕНИЕ ПО ВОДНОМУ ХОЗЯЙСТВУ "ЗАПКАСПВОДХОЗ" | C41: ФГУ "ЗАПКАСПВОДХОЗ" | D41: 801 - включена | E41: 0562048970 | F41: 057201001 | G41: 1020502623481 | H41: 0373100000615 | I41: Министерство внутренних дел Российской Федерации | J41: 08 - казенное учреждение | L41: 39968 | M41: 40165 | N41: 188 | O41: 39970 | Q41: 0562048970
A42: 0303100000282 | B42: ФЕДЕРАЛЬНОЕ ГОСУДАРСТВЕННОЕ БЮДЖЕТНОЕ УЧРЕЖДЕНИЕ "РЕПРОДУКЦИОННЫЙ КОМПЛЕКС ОСЕТРОВОДСТВА" | C42: ФГБУ "РКО" | D42: 801 - включена | E42: 0573002939 | F42: 057301001 | G42: 1130573000821 | H42: 0173100000107 | I42: Федеральная служба исполнения наказаний | J42: 08 - казенное учреждение | N42: 320 | O42: 39617 | Q42: 0573002939
A43: 0314100000039 | B43: федеральное государственное бюджетное образовательное учреждение высшего профессионального образования "Ингушский государственный университет" | C43: ФГБОУ ВПО "ИнгГУ", ИнгГУ | D43: 801 - включена | E43: 0603005224 | F43: 060301001 | G43: 1020600811373 | H43: 0173100000107 | I43: Федеральная служба исполнения наказаний | J43: 08 - казенное учреждение | L43: 40228 | M43: 40271 | N43: 320 | O43: 39967 | Q43: 0603005224
A44: 0314100000075 | B44: ФЕДЕРАЛЬНОЕ ГОСУДАРСТВЕННОЕ БЮДЖЕТНОЕ УЧРЕЖДЕНИЕ "УПРАВЛЕНИЕ МЕЛИОРАЦИИ ЗЕМЕЛЬ И СЕЛЬСКОХОЗЯЙСТВЕННОГО ВОДОСНАБЖЕНИЯ ПО РЕСПУБЛИКЕ ИНГУШЕТИЯ" | C44: ФГБУ "УПРАВЛЕНИЕ "ИНГУШМЕЛИОВОДХОЗ" | D44: 801 - включена | E44: 0603018054 | F44: 060601001 | G44: 1020600812044 | H44: 0173100000135 | I44: Министерство обороны Российской Федерации | J44: 08 - казенное учреждение | L44: 39780 | M44: 39972 | N44: 187 | O44: 39556 | Q44: 0603018054
A45: 0314100000073 | B45: ФЕДЕРАЛЬНОЕ ГОСУДАРСТВЕННОЕ БЮДЖЕТНОЕ УЧРЕЖДЕНИЕ "ГОСУДАРСТВЕННЫЙ ПРИРОДНЫЙ ЗАПОВЕДНИК "ЭРЗИ" | C45: ФГБУ "ГОСУДАРСТВЕННЫЙ ЗАПОВЕДНИК "ЭРЗИ" | D45: 801 - включена | E45: 0606006219 | F45: 060601001 | G45: 1020600986878 | H45: 0373100000615 | I45: Министерство внутренних дел Российской Федерации | J45: 08 - казенное учреждение | L45: 40365 | M45: 40374 | Q45: 0606006219
A46: 0304100000060 | B46: федеральное государственное учреждение "Пансионат " Эдельвейс" Управления делами Президента Российской Федерации | C46: ФГУ "Пансионат "Эдельвейс" | D46: 801 - включена | E46: 0710002588 | F46: 071001001 | G46: 1020700712680 | H46: 0173100000135 | I46: Министерство обороны Российской Федерации | J46: 08 - казенное учреждение | Q46: 0710002588
...
